BEGIN:VCALENDAR
VERSION:2.0
PRODID:-//eventon.com NONSGML v1.0//EN
CALSCALE:GREGORIAN
METHOD:PUBLISH
BEGIN:VEVENT
UID:69e75b59c3341
DTSTAMP:20260421T111121Z
DTSTART:20231001T074800Z
DTEND:20231001T074800Z
LOCATION:
SUMMARY:Ironman Barcelona 140.6
DESCRIPTION:Ironman Barcelona 140.6\nhttps://asladurma.com/events/ironman-b
 arcelona-140-6/
URL:https://asladurma.com/events/ironman-barcelona-140-6/
END:VEVENT
END:VCALENDAR