BEGIN:VCALENDAR
VERSION:2.0
PRODID:-//eventon.com NONSGML v1.0//EN
CALSCALE:GREGORIAN
METHOD:PUBLISH
BEGIN:VEVENT
UID:69eb990f551b7
DTSTAMP:20260424T162343Z
DTSTART:20221217
DTEND:20221218
LOCATION:
SUMMARY:Longest Night Run or Ride
DESCRIPTION:Longest Night Run or Ride\nhttps://asladurma.com/events/longest
 -night-run-or-ride/
URL:https://asladurma.com/events/longest-night-run-or-ride/
END:VEVENT
END:VCALENDAR