BEGIN:VCALENDAR
VERSION:2.0
PRODID:-//eventon.com NONSGML v1.0//EN
CALSCALE:GREGORIAN
METHOD:PUBLISH
BEGIN:VEVENT
UID:69eb147531b98
DTSTAMP:20260424T065757Z
DTSTART:20260111
DTEND:20260112
LOCATION:
SUMMARY:Adana Kurtuluş YM
DESCRIPTION:Adana Kurtuluş YM\nhttps://asladurma.com/events/adana-kurtulus
 -ym/
URL:https://asladurma.com/events/adana-kurtulus-ym/
END:VEVENT
END:VCALENDAR