BEGIN:VCALENDAR
VERSION:2.0
PRODID:-//eventon.com NONSGML v1.0//EN
CALSCALE:GREGORIAN
METHOD:PUBLISH
BEGIN:VEVENT
UID:69e9f95b667f2
DTSTAMP:20260423T105003Z
DTSTART:20230604
DTEND:20230605
LOCATION:
SUMMARY:Edirne Yarı Maratonu
DESCRIPTION:Edirne Yarı Maratonu\nhttps://asladurma.com/events/edirne-yari
 -maratonu/
URL:https://asladurma.com/events/edirne-yari-maratonu/
END:VEVENT
END:VCALENDAR