BEGIN:VCALENDAR
VERSION:2.0
PRODID:-//eventon.com NONSGML v1.0//EN
CALSCALE:GREGORIAN
METHOD:PUBLISH
BEGIN:VEVENT
UID:69eb399fea862
DTSTAMP:20260424T093631Z
DTSTART:20230903T102600Z
DTEND:20230903T102600Z
LOCATION:
SUMMARY:Challenge Istanbul
DESCRIPTION:Challenge Istanbul\nhttps://asladurma.com/events/challenge-ista
 nbul/
URL:https://asladurma.com/events/challenge-istanbul/
END:VEVENT
END:VCALENDAR