BEGIN:VCALENDAR
VERSION:2.0
PRODID:-//eventon.com NONSGML v1.0//EN
CALSCALE:GREGORIAN
METHOD:PUBLISH
BEGIN:VEVENT
UID:69e7518411c78
DTSTAMP:20260421T102924Z
DTSTART:20230625T100500Z
DTEND:20230625T100500Z
LOCATION:
SUMMARY:Sivas Duatlon Türkiye Kupası Finali
DESCRIPTION:Sivas Duatlon Türkiye Kupası Finali\nhttps://asladurma.com/ev
 ents/sivas-duatlon-turkiye-kupasi-finali/
URL:https://asladurma.com/events/sivas-duatlon-turkiye-kupasi-finali/
END:VEVENT
END:VCALENDAR