BEGIN:VCALENDAR
VERSION:2.0
PRODID:-//eventon.com NONSGML v1.0//EN
CALSCALE:GREGORIAN
METHOD:PUBLISH
BEGIN:VEVENT
UID:69e89833bc680
DTSTAMP:20260422T094315Z
DTSTART:20230806T100500Z
DTEND:20230806T100500Z
LOCATION:
SUMMARY:Balıkesir Yaş Grupları Açık Yarışı (Puansız)
DESCRIPTION:Balıkesir Yaş Grupları Açık Yarışı (Puansız)\nhttps://
 asladurma.com/events/balikesir-yas-gruplari-acik-yarisi-puansiz/
URL:https://asladurma.com/events/balikesir-yas-gruplari-acik-yarisi-puansiz/
END:VEVENT
END:VCALENDAR