BEGIN:VCALENDAR
VERSION:2.0
PRODID:-//eventon.com NONSGML v1.0//EN
CALSCALE:GREGORIAN
METHOD:PUBLISH
BEGIN:VEVENT
UID:69e7510f6d136
DTSTAMP:20260421T102727Z
DTSTART:20230621
DTEND:20230622
LOCATION:
SUMMARY:Laverado Ultra  by UTMB
DESCRIPTION:Laverado Ultra by UTMB\nhttps://asladurma.com/events/laverado-u
 ltra-by-utmb/
URL:https://asladurma.com/events/laverado-ultra-by-utmb/
END:VEVENT
END:VCALENDAR