BEGIN:VCALENDAR
VERSION:2.0
PRODID:-//eventon.com NONSGML v1.0//EN
CALSCALE:GREGORIAN
METHOD:PUBLISH
BEGIN:VEVENT
UID:69e776ff3e296
DTSTAMP:20260421T130919Z
DTSTART:20230709
DTEND:20230710
LOCATION:
SUMMARY:Kazancı Dostluk Koşusu - BURSA
DESCRIPTION:Kazancı Dostluk Koşusu - BURSA\nhttps://asladurma.com/events/
 kazancu-dostluk-kosusu-bursa/
URL:https://asladurma.com/events/kazancu-dostluk-kosusu-bursa/
END:VEVENT
END:VCALENDAR