BEGIN:VCALENDAR
VERSION:2.0
PRODID:-//eventon.com NONSGML v1.0//EN
CALSCALE:GREGORIAN
METHOD:PUBLISH
BEGIN:VEVENT
UID:69eb5bbc2feca
DTSTAMP:20260424T120204Z
DTSTART:20251207
DTEND:20251208
LOCATION:
SUMMARY:Valencia Marathon
DESCRIPTION:Valencia Marathon\nhttps://asladurma.com/events/valencia-marath
 on/
URL:https://asladurma.com/events/valencia-marathon/
END:VEVENT
END:VCALENDAR