BEGIN:VCALENDAR
VERSION:2.0
PRODID:-//eventon.com NONSGML v1.0//EN
CALSCALE:GREGORIAN
METHOD:PUBLISH
BEGIN:VEVENT
UID:69e6e7193830d
DTSTAMP:20260421T025521Z
DTSTART:20230222
DTEND:20230223
LOCATION:
SUMMARY:UAE TOUR 3. Etap
DESCRIPTION:UAE TOUR 3. Etap\nhttps://asladurma.com/events/uae-tour-2-etap-
 burjeel-holdings-185km/
URL:https://asladurma.com/events/uae-tour-2-etap-burjeel-holdings-185km/
END:VEVENT
END:VCALENDAR