BEGIN:VCALENDAR
VERSION:2.0
PRODID:-//eventon.com NONSGML v1.0//EN
CALSCALE:GREGORIAN
METHOD:PUBLISH
BEGIN:VEVENT
UID:69eb11837eb1b
DTSTAMP:20260424T064523Z
DTSTART:20230225
DTEND:20230226
LOCATION:
SUMMARY:UAE TOUR 6. Etap
DESCRIPTION:UAE TOUR 6. Etap\nhttps://asladurma.com/events/uae-tour-6-etap-
 aldar-166km/
URL:https://asladurma.com/events/uae-tour-6-etap-aldar-166km/
END:VEVENT
END:VCALENDAR