BEGIN:VCALENDAR
VERSION:2.0
PRODID:-//eventon.com NONSGML v1.0//EN
CALSCALE:GREGORIAN
METHOD:PUBLISH
BEGIN:VEVENT
UID:69eb9b3ba8d97
DTSTAMP:20260424T163259Z
DTSTART:20230505T143500Z
DTEND:20230507T143500Z
LOCATION:
SUMMARY:Arena Aquamasters Yüzme Şampiyonası Antalya
DESCRIPTION:Arena Aquamasters Yüzme Şampiyonası Antalya\nhttps://asladur
 ma.com/events/arena-aquamasters-yuzme-sampiyonasi-antalya/
URL:https://asladurma.com/events/arena-aquamasters-yuzme-sampiyonasi-antalya/
END:VEVENT
END:VCALENDAR