BEGIN:VCALENDAR
VERSION:2.0
PRODID:-//eventon.com NONSGML v1.0//EN
CALSCALE:GREGORIAN
METHOD:PUBLISH
BEGIN:VEVENT
UID:69ebb2334cddd
DTSTAMP:20260424T181059Z
DTSTART:20230910T074800Z
DTEND:20230910T074800Z
LOCATION:
SUMMARY:IRONMAN 140.6 DÜNYA ŞAMPİYONASI / NICE
DESCRIPTION:IRONMAN 140.6 DÜNYA ŞAMPİYONASI / NICE\nhttps://asladurma.co
 m/events/ironman-world-championship-nice/
URL:https://asladurma.com/events/ironman-world-championship-nice/
END:VEVENT
END:VCALENDAR