BEGIN:VCALENDAR
VERSION:2.0
PRODID:-//eventon.com NONSGML v1.0//EN
CALSCALE:GREGORIAN
METHOD:PUBLISH
BEGIN:VEVENT
UID:69eb143e21360
DTSTAMP:20260424T065702Z
DTSTART:20251129
DTEND:20251130
LOCATION:
SUMMARY:İda Ultra
DESCRIPTION:İda Ultra\nhttps://asladurma.com/events/ida-ultra/
URL:https://asladurma.com/events/ida-ultra/
END:VEVENT
END:VCALENDAR