BEGIN:VCALENDAR
VERSION:2.0
PRODID:-//eventon.com NONSGML v1.0//EN
CALSCALE:GREGORIAN
METHOD:PUBLISH
BEGIN:VEVENT
UID:69e75a7044089
DTSTAMP:20260421T110728Z
DTSTART:20240210
DTEND:20240211
LOCATION:
SUMMARY:Woolona Winter Trail
DESCRIPTION:Woolona Winter Trail\nhttps://asladurma.com/events/woolona-wint
 er-trail/
URL:https://asladurma.com/events/woolona-winter-trail/
END:VEVENT
END:VCALENDAR