BEGIN:VCALENDAR
VERSION:2.0
PRODID:-//eventon.com NONSGML v1.0//EN
CALSCALE:GREGORIAN
METHOD:PUBLISH
BEGIN:VEVENT
UID:69e6e8c93f9e7
DTSTAMP:20260421T030233Z
DTSTART:20250904
DTEND:20250905
LOCATION:
SUMMARY:Tour Of İstanbul
DESCRIPTION:Tour Of İstanbul\nhttps://asladurma.com/events/tour-of-istanbu
 l/
URL:https://asladurma.com/events/tour-of-istanbul/
END:VEVENT
END:VCALENDAR