BEGIN:VCALENDAR
VERSION:2.0
PRODID:-//eventon.com NONSGML v1.0//EN
CALSCALE:GREGORIAN
METHOD:PUBLISH
BEGIN:VEVENT
UID:69e71c2275cfb
DTSTAMP:20260421T064138Z
DTSTART:20240602
DTEND:20240603
LOCATION:
SUMMARY:IRONMAN HAMBURG
DESCRIPTION:IRONMAN HAMBURG\nhttps://asladurma.com/events/ironman-hamburg/
URL:https://asladurma.com/events/ironman-hamburg/
END:VEVENT
END:VCALENDAR