BEGIN:VCALENDAR
VERSION:2.0
PRODID:-//eventon.com NONSGML v1.0//EN
CALSCALE:GREGORIAN
METHOD:PUBLISH
BEGIN:VEVENT
UID:69e75ae072868
DTSTAMP:20260421T110920Z
DTSTART:20240715
DTEND:20240716
LOCATION:
SUMMARY:15 Temmuz Şehitleri Anma Yol Yarışları (Kastamonu)
DESCRIPTION:15 Temmuz Şehitleri Anma Yol Yarışları (Kastamonu)\nhttps:/
 /asladurma.com/events/15-temmuz-sehitleri-anma-yol-yarislari-kastamonu/
URL:https://asladurma.com/events/15-temmuz-sehitleri-anma-yol-yarislari-kastamonu/
END:VEVENT
END:VCALENDAR