BEGIN:VCALENDAR
VERSION:2.0
PRODID:-//eventon.com NONSGML v1.0//EN
CALSCALE:GREGORIAN
METHOD:PUBLISH
BEGIN:VEVENT
UID:69ec2c647d6f7
DTSTAMP:20260425T025220Z
DTSTART:20240817
DTEND:20240818
LOCATION:
SUMMARY:TÜRKİYE KUPASI 5.ETAP PYY (Eskişehir)
DESCRIPTION:TÜRKİYE KUPASI 5.ETAP PYY (Eskişehir)\nhttps://asladurma.com
 /events/turkiye-kupasi-5-etap-pyy-eskisehir/
URL:https://asladurma.com/events/turkiye-kupasi-5-etap-pyy-eskisehir/
END:VEVENT
END:VCALENDAR