BEGIN:VCALENDAR
VERSION:2.0
PRODID:-//eventon.com NONSGML v1.0//EN
CALSCALE:GREGORIAN
METHOD:PUBLISH
BEGIN:VEVENT
UID:69ebd45b98734
DTSTAMP:20260424T203643Z
DTSTART:20241012
DTEND:20241013
LOCATION:
SUMMARY:Gran Tour İstanbul
DESCRIPTION:Gran Tour İstanbul\nhttps://asladurma.com/events/gran-tour-ist
 anbul/
URL:https://asladurma.com/events/gran-tour-istanbul/
END:VEVENT
END:VCALENDAR