BEGIN:VCALENDAR
VERSION:2.0
PRODID:-//eventon.com NONSGML v1.0//EN
CALSCALE:GREGORIAN
METHOD:PUBLISH
BEGIN:VEVENT
UID:69e717f307b5a
DTSTAMP:20260421T062347Z
DTSTART:20260501T010800Z
DTEND:20260502T010800Z
LOCATION:
SUMMARY:X-Waters Antalya
DESCRIPTION:X-Waters Antalya\nhttps://asladurma.com/events/x-waters-antalya
 /
URL:https://asladurma.com/events/x-waters-antalya/
END:VEVENT
END:VCALENDAR