BEGIN:VCALENDAR
VERSION:2.0
PRODID:-//eventon.com NONSGML v1.0//EN
CALSCALE:GREGORIAN
METHOD:PUBLISH
BEGIN:VEVENT
UID:69eb5af8bb4d9
DTSTAMP:20260424T115848Z
DTSTART:20250628T051900Z
DTEND:20250628T051900Z
LOCATION:
SUMMARY:Gölpazarı Ultra
DESCRIPTION:Gölpazarı Ultra\nhttps://asladurma.com/events/golpazari-ultra
 /
URL:https://asladurma.com/events/golpazari-ultra/
END:VEVENT
END:VCALENDAR