BEGIN:VCALENDAR
VERSION:2.0
PRODID:-//eventon.com NONSGML v1.0//EN
CALSCALE:GREGORIAN
METHOD:PUBLISH
BEGIN:VEVENT
UID:69ed8eb27e373
DTSTAMP:20260426T040402Z
DTSTART:20240728T034300Z
DTEND:20240728T034300Z
LOCATION:
SUMMARY:Kanyon Ulubey Trail
DESCRIPTION:Kanyon Ulubey Trail\nhttps://asladurma.com/events/kanyon-ulubey
 -trail/
URL:https://asladurma.com/events/kanyon-ulubey-trail/
END:VEVENT
END:VCALENDAR