BEGIN:VCALENDAR
VERSION:2.0
PRODID:-//eventon.com NONSGML v1.0//EN
CALSCALE:GREGORIAN
METHOD:PUBLISH
BEGIN:VEVENT
UID:69e75ae0599c7
DTSTAMP:20260421T110920Z
DTSTART:20240907T041900Z
DTEND:20240908T041900Z
LOCATION:
SUMMARY:AquaChallenge Heybeli Ada
DESCRIPTION:AquaChallenge Heybeli Ada\nhttps://asladurma.com/events/aquacha
 llenge-heybeli-ada/
URL:https://asladurma.com/events/aquachallenge-heybeli-ada/
END:VEVENT
END:VCALENDAR