BEGIN:VCALENDAR
VERSION:2.0
PRODID:-//eventon.com NONSGML v1.0//EN
CALSCALE:GREGORIAN
METHOD:PUBLISH
BEGIN:VEVENT
UID:69e74199e840d
DTSTAMP:20260421T092129Z
DTSTART:20240929T114300Z
DTEND:20240929T114300Z
LOCATION:
SUMMARY:Urla Biriz Koşusu
DESCRIPTION:Urla Biriz Koşusu\nhttps://asladurma.com/events/urla-biriz-kos
 usu/
URL:https://asladurma.com/events/urla-biriz-kosusu/
END:VEVENT
END:VCALENDAR