BEGIN:VCALENDAR
VERSION:2.0
PRODID:-//eventon.com NONSGML v1.0//EN
CALSCALE:GREGORIAN
METHOD:PUBLISH
BEGIN:VEVENT
UID:69e4d62e62fcf
DTSTAMP:20260419T131838Z
DTSTART:20251012T115300Z
DTEND:20251012T115300Z
LOCATION:
SUMMARY:Yalova Kivi Koşusu
DESCRIPTION:Yalova Kivi Koşusu\nhttps://asladurma.com/events/yalova-kivi-k
 osusu/
URL:https://asladurma.com/events/yalova-kivi-kosusu/
END:VEVENT
END:VCALENDAR