BEGIN:VCALENDAR
VERSION:2.0
PRODID:-//eventon.com NONSGML v1.0//EN
CALSCALE:GREGORIAN
METHOD:PUBLISH
BEGIN:VEVENT
UID:69eb12ef2dc74
DTSTAMP:20260424T065127Z
DTSTART:20251114T120600Z
DTEND:20251116T120600Z
LOCATION:
SUMMARY:Anadolu Sigorta Marmaris Ultra Trail
DESCRIPTION:Anadolu Sigorta Marmaris Ultra Trail\nhttps://asladurma.com/eve
 nts/marmaris-ultra-trail/
URL:https://asladurma.com/events/marmaris-ultra-trail/
END:VEVENT
END:VCALENDAR