BEGIN:VCALENDAR
VERSION:2.0
PRODID:-//eventon.com NONSGML v1.0//EN
CALSCALE:GREGORIAN
METHOD:PUBLISH
BEGIN:VEVENT
UID:69e50b60e880a
DTSTAMP:20260419T170536Z
DTSTART:20240629T063200Z
DTEND:20240629T063200Z
LOCATION:
SUMMARY:İstanbul Su Sporları Festivali Maltepe 1500m
DESCRIPTION:İstanbul Su Sporları Festivali Maltepe 1500m\nhttps://asladur
 ma.com/events/istanbul-su-sporlari-festivali-maltepe-1500m/
URL:https://asladurma.com/events/istanbul-su-sporlari-festivali-maltepe-1500m/
END:VEVENT
END:VCALENDAR