BEGIN:VCALENDAR
VERSION:2.0
PRODID:-//eventon.com NONSGML v1.0//EN
CALSCALE:GREGORIAN
METHOD:PUBLISH
BEGIN:VEVENT
UID:69eb36fcc4510
DTSTAMP:20260424T092516Z
DTSTART:20240630T063200Z
DTEND:20240630T063200Z
LOCATION:
SUMMARY:İstanbul Su Sporları Festivali Büyükada 2500m
DESCRIPTION:İstanbul Su Sporları Festivali Büyükada 2500m\nhttps://asla
 durma.com/events/istanbul-su-sporlari-festivali-buyukada-2500m/
URL:https://asladurma.com/events/istanbul-su-sporlari-festivali-buyukada-2500m/
END:VEVENT
END:VCALENDAR