BEGIN:VCALENDAR
VERSION:2.0
PRODID:-//eventon.com NONSGML v1.0//EN
CALSCALE:GREGORIAN
METHOD:PUBLISH
BEGIN:VEVENT
UID:69ed64d560a66
DTSTAMP:20260426T010525Z
DTSTART:20250215T095400Z
DTEND:20250216T095400Z
LOCATION:
SUMMARY:Türkiye Masterlar Salon Atletizm Şampiyonası
DESCRIPTION:Türkiye Masterlar Salon Atletizm Şampiyonası\nhttps://asladu
 rma.com/events/turkiye-masterlar-salon-atletizm-sampiyonasi/
URL:https://asladurma.com/events/turkiye-masterlar-salon-atletizm-sampiyonasi/
END:VEVENT
END:VCALENDAR