BEGIN:VCALENDAR
VERSION:2.0
PRODID:-//eventon.com NONSGML v1.0//EN
CALSCALE:GREGORIAN
METHOD:PUBLISH
BEGIN:VEVENT
UID:69e6331b79900
DTSTAMP:20260420T140723Z
DTSTART:20260425T102700Z
DTEND:20260425T102700Z
LOCATION:
SUMMARY:Eğirdir Ultra Trail
DESCRIPTION:Eğirdir Ultra Trail\nhttps://asladurma.com/events/egirdir-ultr
 a/
URL:https://asladurma.com/events/egirdir-ultra/
END:VEVENT
END:VCALENDAR