BEGIN:VCALENDAR
VERSION:2.0
PRODID:-//eventon.com NONSGML v1.0//EN
CALSCALE:GREGORIAN
METHOD:PUBLISH
BEGIN:VEVENT
UID:69e4f0b6bb8d5
DTSTAMP:20260419T151150Z
DTSTART:20260905T120000Z
DTEND:20260905T120000Z
LOCATION:
SUMMARY:Davraz Sky Run
DESCRIPTION:Davraz Sky Run\nhttps://asladurma.com/events/davraz-sky-run/
URL:https://asladurma.com/events/davraz-sky-run/
END:VEVENT
END:VCALENDAR