BEGIN:VCALENDAR
VERSION:2.0
PRODID:-//eventon.com NONSGML v1.0//EN
CALSCALE:GREGORIAN
METHOD:PUBLISH
BEGIN:VEVENT
UID:69eb99c7bc9a7
DTSTAMP:20260424T162647Z
DTSTART:20250926T120600Z
DTEND:20250928T120600Z
LOCATION:
SUMMARY:Kaçkar By UTMB
DESCRIPTION:Kaçkar By UTMB\nhttps://asladurma.com/events/kackar-by-utmb/
URL:https://asladurma.com/events/kackar-by-utmb/
END:VEVENT
END:VCALENDAR