BEGIN:VCALENDAR
VERSION:2.0
PRODID:-//eventon.com NONSGML v1.0//EN
CALSCALE:GREGORIAN
METHOD:PUBLISH
BEGIN:VEVENT
UID:69eb9c68bfaf1
DTSTAMP:20260424T163800Z
DTSTART:20250628
DTEND:20250629
LOCATION:
SUMMARY:Trabzon Gran Fondo
DESCRIPTION:Trabzon Gran Fondo\nhttps://asladurma.com/events/trabzon-gran-f
 ondo/
URL:https://asladurma.com/events/trabzon-gran-fondo/
END:VEVENT
END:VCALENDAR