BEGIN:VCALENDAR
VERSION:2.0
PRODID:-//eventon.com NONSGML v1.0//EN
CALSCALE:GREGORIAN
METHOD:PUBLISH
BEGIN:VEVENT
UID:69e4f13fb111c
DTSTAMP:20260419T151407Z
DTSTART:20250201T075900Z
DTEND:20250202T075900Z
LOCATION:
SUMMARY:Konya Duatlonu
DESCRIPTION:Konya Duatlonu\nhttps://asladurma.com/events/konya-duatlonu-pua
 nsiz/
URL:https://asladurma.com/events/konya-duatlonu-puansiz/
END:VEVENT
END:VCALENDAR