BEGIN:VCALENDAR
VERSION:2.0
PRODID:-//eventon.com NONSGML v1.0//EN
CALSCALE:GREGORIAN
METHOD:PUBLISH
BEGIN:VEVENT
UID:69ed909f594c6
DTSTAMP:20260426T041215Z
DTSTART:20250706T080600Z
DTEND:20250706T080600Z
LOCATION:
SUMMARY:Challenge Roth
DESCRIPTION:Challenge Roth\nhttps://asladurma.com/events/challenge-roth/
URL:https://asladurma.com/events/challenge-roth/
END:VEVENT
END:VCALENDAR