BEGIN:VCALENDAR
VERSION:2.0
PRODID:-//eventon.com NONSGML v1.0//EN
CALSCALE:GREGORIAN
METHOD:PUBLISH
BEGIN:VEVENT
UID:69e6ebcd184ca
DTSTAMP:20260421T031525Z
DTSTART:20250802T084400Z
DTEND:20250802T084400Z
LOCATION:
SUMMARY:Çanakkale Gökceada Maratonu
DESCRIPTION:Çanakkale Gökceada Maratonu\nhttps://asladurma.com/events/can
 akkale-gokceada-maratonu/
URL:https://asladurma.com/events/canakkale-gokceada-maratonu/
END:VEVENT
END:VCALENDAR