BEGIN:VCALENDAR
VERSION:2.0
PRODID:-//eventon.com NONSGML v1.0//EN
CALSCALE:GREGORIAN
METHOD:PUBLISH
BEGIN:VEVENT
UID:69eb13d468cbb
DTSTAMP:20260424T065516Z
DTSTART:20250816
DTEND:20250817
LOCATION:
SUMMARY:Abdülaziz Talat Tuncalp Yenice Cup / Karabük
DESCRIPTION:Abdülaziz Talat Tuncalp Yenice Cup / Karabük\nhttps://asladur
 ma.com/events/abdulaziz-talat-tuncalp-yenice-cup-karabuk/
URL:https://asladurma.com/events/abdulaziz-talat-tuncalp-yenice-cup-karabuk/
END:VEVENT
END:VCALENDAR