BEGIN:VCALENDAR
VERSION:2.0
PRODID:-//eventon.com NONSGML v1.0//EN
CALSCALE:GREGORIAN
METHOD:PUBLISH
BEGIN:VEVENT
UID:69e4f00d44989
DTSTAMP:20260419T150901Z
DTSTART:20250412
DTEND:20250413
LOCATION:Muğla
SUMMARY:Fethiye Liberty Gran Fondo
DESCRIPTION:Fethiye Liberty Gran Fondo\nhttps://asladurma.com/events/fethiy
 e-liberty-gran-fondo/
URL:https://asladurma.com/events/fethiye-liberty-gran-fondo/
END:VEVENT
END:VCALENDAR