BEGIN:VCALENDAR
VERSION:2.0
PRODID:-//eventon.com NONSGML v1.0//EN
CALSCALE:GREGORIAN
METHOD:PUBLISH
BEGIN:VEVENT
UID:69eb3420c4e5b
DTSTAMP:20260424T091304Z
DTSTART:20260327T055300Z
DTEND:20260328T055300Z
LOCATION:
SUMMARY:Alanya Ultra Trail
DESCRIPTION:Alanya Ultra Trail\nhttps://asladurma.com/events/alanya-ultra-t
 rail/
URL:https://asladurma.com/events/alanya-ultra-trail/
END:VEVENT
END:VCALENDAR