BEGIN:VCALENDAR
VERSION:2.0
PRODID:-//eventon.com NONSGML v1.0//EN
CALSCALE:GREGORIAN
METHOD:PUBLISH
BEGIN:VEVENT
UID:69e63185a4e05
DTSTAMP:20260420T140037Z
DTSTART:20260426
DTEND:20260427
LOCATION:
SUMMARY:Yalova Gran Fondo
DESCRIPTION:Yalova Gran Fondo\nhttps://asladurma.com/events/yalova-gran-fon
 do/
URL:https://asladurma.com/events/yalova-gran-fondo/
END:VEVENT
END:VCALENDAR