BEGIN:VCALENDAR
VERSION:2.0
PRODID:-//eventon.com NONSGML v1.0//EN
CALSCALE:GREGORIAN
METHOD:PUBLISH
BEGIN:VEVENT
UID:69e9db331be62
DTSTAMP:20260423T084123Z
DTSTART:20260815T040800Z
DTEND:20260816T040800Z
LOCATION:
SUMMARY:Uluslararası Boğaziçi Triatlonu
DESCRIPTION:Uluslararası Boğaziçi Triatlonu\nhttps://asladurma.com/event
 s/uluslararasi-bogazici-triatlonu/
URL:https://asladurma.com/events/uluslararasi-bogazici-triatlonu/
END:VEVENT
END:VCALENDAR